BEGIN:VCALENDAR
VERSION:2.0
PRODID:-//Klimanetzwerk Emmen - ECPv6.15.14//NONSGML v1.0//EN
CALSCALE:GREGORIAN
METHOD:PUBLISH
X-WR-CALNAME:Klimanetzwerk Emmen
X-ORIGINAL-URL:https://emmen.klimanetzwerk.ch
X-WR-CALDESC:Veranstaltungen für Klimanetzwerk Emmen
REFRESH-INTERVAL;VALUE=DURATION:PT1H
X-Robots-Tag:noindex
X-PUBLISHED-TTL:PT1H
BEGIN:VTIMEZONE
TZID:Europe/Zurich
BEGIN:DAYLIGHT
TZOFFSETFROM:+0100
TZOFFSETTO:+0200
TZNAME:CEST
DTSTART:20250330T010000
END:DAYLIGHT
BEGIN:STANDARD
TZOFFSETFROM:+0200
TZOFFSETTO:+0100
TZNAME:CET
DTSTART:20251026T010000
END:STANDARD
BEGIN:DAYLIGHT
TZOFFSETFROM:+0100
TZOFFSETTO:+0200
TZNAME:CEST
DTSTART:20260329T010000
END:DAYLIGHT
BEGIN:STANDARD
TZOFFSETFROM:+0200
TZOFFSETTO:+0100
TZNAME:CET
DTSTART:20261025T010000
END:STANDARD
BEGIN:DAYLIGHT
TZOFFSETFROM:+0100
TZOFFSETTO:+0200
TZNAME:CEST
DTSTART:20270328T010000
END:DAYLIGHT
BEGIN:STANDARD
TZOFFSETFROM:+0200
TZOFFSETTO:+0100
TZNAME:CET
DTSTART:20271031T010000
END:STANDARD
END:VTIMEZONE
BEGIN:VEVENT
DTSTART;TZID=Europe/Zurich:20260425T100000
DTEND;TZID=Europe/Zurich:20260425T150000
DTSTAMP:20260424T124108
CREATED:20251102T085457Z
LAST-MODIFIED:20260323T110600Z
UID:5434-1777111200-1777129200@emmen.klimanetzwerk.ch
SUMMARY:Velotag zum Thema Velowege zum neuen Verwaltungsgebäude auf dem Seetalplatz
DESCRIPTION:Velotag mit Infoständen\, Velospielen\, Möglichkeit für kleinere Reparaturen. Auch pro Velo Luzern wird mit dabei sein
URL:https://emmen.klimanetzwerk.ch/event/velotag-2/
LOCATION:Pfarrei St. Maria
ATTACH;FMTTYPE=image/jpeg:https://emmen.klimanetzwerk.ch/wp-content/uploads/sites/15/2025/11/Flyer-2.jpeg
END:VEVENT
BEGIN:VEVENT
DTSTART;TZID=Europe/Zurich:20260608T190000
DTEND;TZID=Europe/Zurich:20260608T203000
DTSTAMP:20260424T124108
CREATED:20260303T144251Z
LAST-MODIFIED:20260303T144255Z
UID:5472-1780945200-1780950600@emmen.klimanetzwerk.ch
SUMMARY:Spaziergang Biodiversität in Emmen
DESCRIPTION:Wir erkunden die neue naturnahe Gestaltung um Schulhaus und Kirche Emmen\, Seetalstrasse\, Reussufer\, Siedlung Untergrundhof\,  Siedlung Grünmatte.\nLeitung: Klimanetzwerk & Umwelt und Naturschutzkommission der Gemeinde Emmen
URL:https://emmen.klimanetzwerk.ch/event/spaziergang-biodiversitaet-in-emmen/
LOCATION:Schulhausplatz Emmen Dorf
ATTACH;FMTTYPE=image/jpeg:https://emmen.klimanetzwerk.ch/wp-content/uploads/sites/15/2024/07/WhatsApp-Image-2024-07-05-at-10.09.50-2.jpeg
END:VEVENT
BEGIN:VEVENT
DTSTART;TZID=Europe/Zurich:20260822T160000
DTEND;TZID=Europe/Zurich:20260822T220000
DTSTAMP:20260424T124108
CREATED:20251102T085734Z
LAST-MODIFIED:20251102T085800Z
UID:5437-1787414400-1787436000@emmen.klimanetzwerk.ch
SUMMARY:Z'Ämme Zämme ässe
DESCRIPTION:Das Klimanetzwerk ist wieder mit einem Stand zum Thema Food Waste dabei
URL:https://emmen.klimanetzwerk.ch/event/zaemme-zaemme-aesse-2/
LOCATION:Mooshüsli Schwimmbad Emmen
ATTACH;FMTTYPE=image/jpeg:https://emmen.klimanetzwerk.ch/wp-content/uploads/sites/15/2024/10/20240824_200726_-scaled.jpg
END:VEVENT
BEGIN:VEVENT
DTSTART;TZID=Europe/Zurich:20260919T080000
DTEND;TZID=Europe/Zurich:20260919T120000
DTSTAMP:20260424T124108
CREATED:20251102T090017Z
LAST-MODIFIED:20251102T090203Z
UID:5441-1789804800-1789819200@emmen.klimanetzwerk.ch
SUMMARY:Klimanetzwerk am Emmer Markt
DESCRIPTION:Das Klimanetzwerk stellt sich am EmmerMarkt vor.
URL:https://emmen.klimanetzwerk.ch/event/klimanetzwerk-am-emmer-markt-2/
LOCATION:Sonnenplatz Emmenbrücke
ATTACH;FMTTYPE=image/jpeg:https://emmen.klimanetzwerk.ch/wp-content/uploads/sites/15/2024/07/EmmenMarkt-Logo-2.jpg
END:VEVENT
END:VCALENDAR